BEGIN:VCALENDAR
VERSION:2.0
PRODID:-//Ayni - ECPv6.15.20//NONSGML v1.0//EN
CALSCALE:GREGORIAN
METHOD:PUBLISH
X-ORIGINAL-URL:https://ayni.be
X-WR-CALDESC:Évènements pour Ayni
REFRESH-INTERVAL;VALUE=DURATION:PT1H
X-Robots-Tag:noindex
X-PUBLISHED-TTL:PT1H
BEGIN:VTIMEZONE
TZID:Europe/Paris
BEGIN:DAYLIGHT
TZOFFSETFROM:+0100
TZOFFSETTO:+0200
TZNAME:CEST
DTSTART:20230326T010000
END:DAYLIGHT
BEGIN:STANDARD
TZOFFSETFROM:+0200
TZOFFSETTO:+0100
TZNAME:CET
DTSTART:20231029T010000
END:STANDARD
BEGIN:DAYLIGHT
TZOFFSETFROM:+0100
TZOFFSETTO:+0200
TZNAME:CEST
DTSTART:20240331T010000
END:DAYLIGHT
BEGIN:STANDARD
TZOFFSETFROM:+0200
TZOFFSETTO:+0100
TZNAME:CET
DTSTART:20241027T010000
END:STANDARD
BEGIN:DAYLIGHT
TZOFFSETFROM:+0100
TZOFFSETTO:+0200
TZNAME:CEST
DTSTART:20250330T010000
END:DAYLIGHT
BEGIN:STANDARD
TZOFFSETFROM:+0200
TZOFFSETTO:+0100
TZNAME:CET
DTSTART:20251026T010000
END:STANDARD
END:VTIMEZONE
BEGIN:VEVENT
DTSTART;TZID=Europe/Paris:20241002T190000
DTEND;TZID=Europe/Paris:20241002T220000
DTSTAMP:20260424T054233
CREATED:20240916T113900Z
LAST-MODIFIED:20240916T113904Z
UID:2518-1727895600-1727906400@ayni.be
SUMMARY:Cercle de chant du 02 octobre 2024
DESCRIPTION:Cercle de Chant\n\n\n\n\n\n\n\n\n\nVenez entremêler vos voix avec nous lors de ce cercle de chant ! Amenez votre ami(e)s\, votre frère\, votre cousine… à partager ce beau moment de joie. \n\n\n\nLes chants sont principalement des chants médecine amérindiens et Sud Américains\, ils sont simples et il est facile de rentrer dans la ronde sans prérequis. Il suffit de se laisser porter par le groupe et la musique. \n\n\n\nLes petits instruments style maracas ou petites percussions sont bienvenus. \n\n\n\nRéservation souhaitée via messenger\, par sms au 0495/42 95 90 ou par mail via le formulaire de contact car le nombre de places est limité. \n\n\n\n– Où : à Tubize adresse donnée lors de la réservation.– Quand : le 2 octobre 2024\, accueil 19h\, début 19h30\, nous terminerons à 22h.– Prix souhaité : 20 euros (15 euros solidaire ; 25 euros soutien) \n\n\n\nAttention ! Nous aurons nos amis chats avec nous\, donc si vous êtes allergiques prenez vos dispositions !
URL:https://ayni.be/event/cercle-de-chant-du-2-octobre-2024/
LOCATION:Tubize\, Tubize
CATEGORIES:Cercles de chant
ATTACH;FMTTYPE=image/jpeg:https://ayni.be/wp-content/uploads/2024/05/site-cercle-rotated.jpg
END:VEVENT
END:VCALENDAR