BEGIN:VCALENDAR
VERSION:2.0
PRODID:-//Ayni - ECPv6.15.20//NONSGML v1.0//EN
CALSCALE:GREGORIAN
METHOD:PUBLISH
X-ORIGINAL-URL:https://ayni.be
X-WR-CALDESC:Évènements pour Ayni
REFRESH-INTERVAL;VALUE=DURATION:PT1H
X-Robots-Tag:noindex
X-PUBLISHED-TTL:PT1H
BEGIN:VTIMEZONE
TZID:Europe/Paris
BEGIN:DAYLIGHT
TZOFFSETFROM:+0100
TZOFFSETTO:+0200
TZNAME:CEST
DTSTART:20240331T010000
END:DAYLIGHT
BEGIN:STANDARD
TZOFFSETFROM:+0200
TZOFFSETTO:+0100
TZNAME:CET
DTSTART:20241027T010000
END:STANDARD
BEGIN:DAYLIGHT
TZOFFSETFROM:+0100
TZOFFSETTO:+0200
TZNAME:CEST
DTSTART:20250330T010000
END:DAYLIGHT
BEGIN:STANDARD
TZOFFSETFROM:+0200
TZOFFSETTO:+0100
TZNAME:CET
DTSTART:20251026T010000
END:STANDARD
BEGIN:DAYLIGHT
TZOFFSETFROM:+0100
TZOFFSETTO:+0200
TZNAME:CEST
DTSTART:20260329T010000
END:DAYLIGHT
BEGIN:STANDARD
TZOFFSETFROM:+0200
TZOFFSETTO:+0100
TZNAME:CET
DTSTART:20261025T010000
END:STANDARD
END:VTIMEZONE
BEGIN:VEVENT
DTSTART;TZID=Europe/Paris:20250108T190000
DTEND;TZID=Europe/Paris:20250108T220000
DTSTAMP:20260423T212050
CREATED:20241209T131013Z
LAST-MODIFIED:20241209T131017Z
UID:2700-1736362800-1736373600@ayni.be
SUMMARY:Cercle de chant du mercredi 08 janvier 2025
DESCRIPTION:Cercle de Chant du mercredi 08 janvier 2025\n\n\n\n\n\n\n\n\n\nCercle de chant du mercredi 08 janvier ! \n\n\n\nEnvie de te guérir et de prendre soin de toi ? 💖 Les chants médecines sont une pratique ancestralede guérison. 🌿 En les chantant ensemble\, nous amplifions leur pouvoir et laissons la musiquenous guérir intérieurement. 🎶✨ Viens chanter avec nous et partager tes belles vibrations\, mêmesi tu « ne sais pas chanter ». 💫 💖Les petits instruments style maracas ou petites percussions sont bienvenus. En pratique: \n\n\n\nRéservation souhaitée via messenger\, par sms au 0495/42 95 90 ou par mail via le formulaire de contact car le nombre de places est limité. \n\n\n\n– Où : à Tubize adresse donnée lors de la réservation.– Quand : le mercredi 08 janvier 2025\, accueil 19h00\, début 19h30\, nous terminerons à 22h.– Prix souhaité : 20 euros (15 euros solidaire ; 25 euros soutien) \n\n\n\nTisanes et biscuits seront offerts. \n\n\n\nAttention ! Nous aurons nos amis chats avec nous\, donc si vous êtes allergiques prenez vos dispositions !
URL:https://ayni.be/event/cercle-de-chant-du-mercredi-08-janvier-2025/
LOCATION:Tubize\, Tubize
CATEGORIES:Cercles de chant
ATTACH;FMTTYPE=image/jpeg:https://ayni.be/wp-content/uploads/2024/12/cercle2-site.jpg
END:VEVENT
END:VCALENDAR