BEGIN:VCALENDAR
VERSION:2.0
PRODID:-//Ayni - ECPv6.15.20//NONSGML v1.0//EN
CALSCALE:GREGORIAN
METHOD:PUBLISH
X-ORIGINAL-URL:https://ayni.be
X-WR-CALDESC:Évènements pour Ayni
REFRESH-INTERVAL;VALUE=DURATION:PT1H
X-Robots-Tag:noindex
X-PUBLISHED-TTL:PT1H
BEGIN:VTIMEZONE
TZID:Europe/Paris
BEGIN:DAYLIGHT
TZOFFSETFROM:+0100
TZOFFSETTO:+0200
TZNAME:CEST
DTSTART:20240331T010000
END:DAYLIGHT
BEGIN:STANDARD
TZOFFSETFROM:+0200
TZOFFSETTO:+0100
TZNAME:CET
DTSTART:20241027T010000
END:STANDARD
BEGIN:DAYLIGHT
TZOFFSETFROM:+0100
TZOFFSETTO:+0200
TZNAME:CEST
DTSTART:20250330T010000
END:DAYLIGHT
BEGIN:STANDARD
TZOFFSETFROM:+0200
TZOFFSETTO:+0100
TZNAME:CET
DTSTART:20251026T010000
END:STANDARD
BEGIN:DAYLIGHT
TZOFFSETFROM:+0100
TZOFFSETTO:+0200
TZNAME:CEST
DTSTART:20260329T010000
END:DAYLIGHT
BEGIN:STANDARD
TZOFFSETFROM:+0200
TZOFFSETTO:+0100
TZNAME:CET
DTSTART:20261025T010000
END:STANDARD
END:VTIMEZONE
BEGIN:VEVENT
DTSTART;TZID=Europe/Paris:20250523T190000
DTEND;TZID=Europe/Paris:20250523T220000
DTSTAMP:20260422T015448
CREATED:20250505T094050Z
LAST-MODIFIED:20250505T094053Z
UID:2783-1748026800-1748037600@ayni.be
SUMMARY:Cercle de chant du vendredi 23 mai 2025 (Saintes)
DESCRIPTION:Cercle de Chant du vendredi 23 mai 2025 (Saintes)\n\n\n\n\n\n\n\n\n\nCercle de chant du vendredi 23 mai ! \n\n\n\nEnvie de te libérer du stress et de retrouver de l’énergie ? 🌿  \n\n\n\nViens partager les chants médecines amérindiens dans notre cercle. 🎶  \n\n\n\nUn moment joyeux à partager pour refaire le plein de belles vibrations dans le corps et l’esprit. ✨🌈 \n\n\n\nIl n’est pas nécessaire de savoir chanter\, juste avoir l’envie de partager et de vibrer ensemble lors de ce cercle de chant. 💖 \n\n\n\n \n\n\n\nLes petits instruments style maracas ou petites percussions sont bienvenus. \n\n\n\n En pratique: \n\n\n\nRéservation souhaitée via messenger\, par sms au 0495/42 95 90 ou par mail via le formulaire de contact car le nombre de places est limité. \n\n\n\n– Où : à Saintes à la Yourte des Terres Happy. Adresse donnée lors de la réservation.– Quand : le vendredi 23 mai 2025\, accueil 19h00\, début 19h30\, nous terminerons vers 22h.– Prix souhaité : 20 euros (15 euros solidaire ; 25 euros soutien) \n\n\n\nTisanes et biscuits seront offerts.
URL:https://ayni.be/event/cercle-de-chant-du-vendredi-23-mai-2025-saintes/
LOCATION:Tubize\, Tubize
CATEGORIES:Cercles de chant
ATTACH;FMTTYPE=image/jpeg:https://ayni.be/wp-content/uploads/2025/01/cercle5-site.jpg
END:VEVENT
END:VCALENDAR