BEGIN:VCALENDAR
VERSION:2.0
PRODID:-//Ayni - ECPv6.15.20//NONSGML v1.0//EN
CALSCALE:GREGORIAN
METHOD:PUBLISH
X-ORIGINAL-URL:https://ayni.be
X-WR-CALDESC:Évènements pour Ayni
REFRESH-INTERVAL;VALUE=DURATION:PT1H
X-Robots-Tag:noindex
X-PUBLISHED-TTL:PT1H
BEGIN:VTIMEZONE
TZID:Europe/Paris
BEGIN:DAYLIGHT
TZOFFSETFROM:+0100
TZOFFSETTO:+0200
TZNAME:CEST
DTSTART:20240331T010000
END:DAYLIGHT
BEGIN:STANDARD
TZOFFSETFROM:+0200
TZOFFSETTO:+0100
TZNAME:CET
DTSTART:20241027T010000
END:STANDARD
BEGIN:DAYLIGHT
TZOFFSETFROM:+0100
TZOFFSETTO:+0200
TZNAME:CEST
DTSTART:20250330T010000
END:DAYLIGHT
BEGIN:STANDARD
TZOFFSETFROM:+0200
TZOFFSETTO:+0100
TZNAME:CET
DTSTART:20251026T010000
END:STANDARD
BEGIN:DAYLIGHT
TZOFFSETFROM:+0100
TZOFFSETTO:+0200
TZNAME:CEST
DTSTART:20260329T010000
END:DAYLIGHT
BEGIN:STANDARD
TZOFFSETFROM:+0200
TZOFFSETTO:+0100
TZNAME:CET
DTSTART:20261025T010000
END:STANDARD
END:VTIMEZONE
BEGIN:VEVENT
DTSTART;TZID=Europe/Paris:20250329T140000
DTEND;TZID=Europe/Paris:20250329T163000
DTSTAMP:20260426T002337
CREATED:20250226T110555Z
LAST-MODIFIED:20250226T110604Z
UID:2748-1743256800-1743265800@ayni.be
SUMMARY:Balade découverte des plantes médicinales - plantes détox et dépuratives
DESCRIPTION:Découverte des plantes médicinales – plantes détox et dépuratives\n\n\n\n\n\n\n\n\n\nLe début du printemps est un moment idéal pour réaliser une cure détox ! Venez passer un agréable moment dans la Nature lors de cette balade découverte des plantes médicinales détox et dépuratives. \n\n\n\nSouvent qualifiées à tort de mauvaises herbes\, les plantes sauvages ont accompagnés l’humain depuis l’aube des temps qui les a utilisées pour leurs nombreuses propriétés nutritives ou thérapeutiques\, mais également pour d’autres usages. \n\n\n\nLors de cette balade découverte des plantes médicinales détox et dépuratives\, facile d’accès sur terrain plat le long de l’ancien bief de l’écluse d’Ittre\, vous apprendrez à les identifier et les utiliser de façon simple. Nous verrons également les grands principes de la cueillette pour pouvoir les récolter en sécurité et de façon respectueuse pour la biodiversité. \n\n\n\nPour vous guider\, Yann\, guide-nature breveté\, vous partagera ses conseils et recommandations afin de vous aider à profiter de ces précieux cadeaux de la Terre-Mère que sont les plantes sauvages. \n\n\n\n Au programme : Apprendre à reconnaître les plantes sauvages Découvrir leurs propriétés médicinales Comment les utiliser\, les récolter et les conserver Développer son autonomie et ses connaissances Se reconnecter à la Nature \n\n\n\nINFOS PRATIQUES : A prévoir : Prévoir une tenue adaptée à la météo du jour et à la promenade en Nature. Si vous souhaitez prendre des notes\, apportez un petit carnet et éventuellement un appareil photo. \n\n\n\n Rendez-vous : Par respect pour tous les participants\, la balade commencera à l’heure précisée\, mais je serai présent pour vous accueillir un quart d’heure avant le départ de la balade (13h45). Balade facile et accessible à tous (3 km sur terrain plat) \n\n\n\n Le lieu de rendez-vous est donné lors de l’inscription \n\n\n\n Tarif : 15€/personne (7€ pour les enfants de moins de 12 ans). Paiement en liquide sur place. Afin de pouvoir consacrer du temps à chacun\, le nombre de participants est limité et les réservations sont donc obligatoires. Les inscriptions se font soit via Messenger\, soit via le formulaire de contact\, soit par téléphone au 0495 42 95 90 (n’hésitez pas à laisser un message\, nous vous recontacterons!) L’évènement ne sera annulé qu’en cas de grosse intempérie ou d’impossibilité majeure de l’animateur (maladie\,…) \n\n\n\nEt si vous n’êtes pas disponible\, mais que vous souhaitez connaître les prochaines dates de nos activités\, vous pouvez vous abonner à notre page Facebook : https://www.facebook.com/ayni1480 \n\n\n\nAu plaisir de vous rencontrer ! Yann.
URL:https://ayni.be/event/balade-plantes-medicinales/
LOCATION:Tubize\, Tubize
CATEGORIES:Balades
ATTACH;FMTTYPE=image/jpeg:https://ayni.be/wp-content/uploads/2025/02/250329-banner-site.jpg
END:VEVENT
END:VCALENDAR