BEGIN:VCALENDAR
VERSION:2.0
PRODID:-//Ayni - ECPv6.15.20//NONSGML v1.0//EN
CALSCALE:GREGORIAN
METHOD:PUBLISH
X-WR-CALNAME:Ayni
X-ORIGINAL-URL:https://ayni.be
X-WR-CALDESC:Évènements pour Ayni
REFRESH-INTERVAL;VALUE=DURATION:PT1H
X-Robots-Tag:noindex
X-PUBLISHED-TTL:PT1H
BEGIN:VTIMEZONE
TZID:Europe/Paris
BEGIN:DAYLIGHT
TZOFFSETFROM:+0100
TZOFFSETTO:+0200
TZNAME:CEST
DTSTART:20240331T010000
END:DAYLIGHT
BEGIN:STANDARD
TZOFFSETFROM:+0200
TZOFFSETTO:+0100
TZNAME:CET
DTSTART:20241027T010000
END:STANDARD
BEGIN:DAYLIGHT
TZOFFSETFROM:+0100
TZOFFSETTO:+0200
TZNAME:CEST
DTSTART:20250330T010000
END:DAYLIGHT
BEGIN:STANDARD
TZOFFSETFROM:+0200
TZOFFSETTO:+0100
TZNAME:CET
DTSTART:20251026T010000
END:STANDARD
BEGIN:DAYLIGHT
TZOFFSETFROM:+0100
TZOFFSETTO:+0200
TZNAME:CEST
DTSTART:20260329T010000
END:DAYLIGHT
BEGIN:STANDARD
TZOFFSETFROM:+0200
TZOFFSETTO:+0100
TZNAME:CET
DTSTART:20261025T010000
END:STANDARD
END:VTIMEZONE
BEGIN:VEVENT
DTSTART;TZID=Europe/Paris:20250823T140000
DTEND;TZID=Europe/Paris:20250823T163000
DTSTAMP:20260425T145831
CREATED:20250808T095218Z
LAST-MODIFIED:20250808T095223Z
UID:2885-1755957600-1755966600@ayni.be
SUMMARY:Balade découverte des plantes médicinales - Plantes du système digestif
DESCRIPTION:Découverte des plantes médicinales – Plantes du système digestif\n\n\n\n\n\n\n\n\n\n🌿 Balade découverte – Plantes du système digestif 🌿 \n\n\n\nDu premier contact avec la nourriture dans la bouche… jusqu’à la fin du voyage dans notre ventre\, le système digestif est au cœur de notre vitalité. Et la nature regorge de plantes qui\, depuis des siècles\, l’aident à fonctionner harmonieusement. \n\n\n\nLors de cette balade accessible à toutes et tous\, vous apprendrez à reconnaître ces précieuses alliées : celles qui soulagent les maux de gorge\, stimulent l’appétit\, facilitent la digestion ou apaisent les inconforts intestinaux. \n\n\n\n🌿 Yann\, guide-nature passionné\, vous fera découvrir leurs vertus\, leurs usages traditionnels et les bonnes pratiques de cueillette respectueuse. \n\n\n\n✨ Un moment de découverte\, de partage et d’ancrage dans la nature\, pour prendre soin de soi… de l’intérieur. ✨ \n\n\n\n👉 Au programme de cette balade dédiée au système digestif :🌱 Identifier et reconnaître les plantes digestives sauvages🌱 Comprendre leurs propriétés et savoir comment les utiliser🌱 Explorer des remèdes naturels\, de la bouche au ventre🌱 Apprendre à récolter et conserver dans le respect des plantes🌱 Se reconnecter à soi et à la Nature \n\n\n\nINFOS PRATIQUES : A prévoir : Prévoir une tenue adaptée à la météo du jour et à la promenade en Nature. Si vous souhaitez prendre des notes\, apportez un petit carnet et éventuellement un appareil photo. \n\n\n\n Rendez-vous : Par respect pour tous les participants\, la balade commencera à l’heure précisée\, mais je serai présent pour vous accueillir un quart d’heure avant le départ de la balade (13h45). Balade facile et accessible à tous (3 km sur terrain plat) \n\n\n\n Le lieu de rendez-vous est donné lors de l’inscription \n\n\n\n Tarif : 15€/personne (7€ pour les enfants de moins de 12 ans). Paiement en liquide sur place. Afin de pouvoir consacrer du temps à chacun\, le nombre de participants est limité et les réservations sont donc obligatoires. Les inscriptions se font soit via Messenger\, soit via le formulaire de contact\, soit par téléphone au 0495 42 95 90 (n’hésitez pas à laisser un message\, nous vous recontacterons!) L’évènement ne sera annulé qu’en cas de grosse intempérie ou d’impossibilité majeure de l’animateur (maladie\,…) \n\n\n\nEt si vous n’êtes pas disponible\, mais que vous souhaitez connaître les prochaines dates de nos activités\, vous pouvez vous abonner à notre page Facebook : https://www.facebook.com/ayni1480 \n\n\n\nAu plaisir de vous rencontrer ! Yann.
URL:https://ayni.be/event/balade-decouverte-des-plantes-medicinales-plantes-du-systeme-digestif-2/
LOCATION:Tubize\, Tubize
CATEGORIES:Balades
ATTACH;FMTTYPE=image/jpeg:https://ayni.be/wp-content/uploads/2025/08/250823-Banner-site.jpg
END:VEVENT
END:VCALENDAR