BEGIN:VCALENDAR
VERSION:2.0
PRODID:-//Ayni - ECPv6.15.20//NONSGML v1.0//EN
CALSCALE:GREGORIAN
METHOD:PUBLISH
X-WR-CALNAME:Ayni
X-ORIGINAL-URL:https://ayni.be
X-WR-CALDESC:Évènements pour Ayni
REFRESH-INTERVAL;VALUE=DURATION:PT1H
X-Robots-Tag:noindex
X-PUBLISHED-TTL:PT1H
BEGIN:VTIMEZONE
TZID:Europe/Paris
BEGIN:DAYLIGHT
TZOFFSETFROM:+0100
TZOFFSETTO:+0200
TZNAME:CEST
DTSTART:20240331T010000
END:DAYLIGHT
BEGIN:STANDARD
TZOFFSETFROM:+0200
TZOFFSETTO:+0100
TZNAME:CET
DTSTART:20241027T010000
END:STANDARD
BEGIN:DAYLIGHT
TZOFFSETFROM:+0100
TZOFFSETTO:+0200
TZNAME:CEST
DTSTART:20250330T010000
END:DAYLIGHT
BEGIN:STANDARD
TZOFFSETFROM:+0200
TZOFFSETTO:+0100
TZNAME:CET
DTSTART:20251026T010000
END:STANDARD
BEGIN:DAYLIGHT
TZOFFSETFROM:+0100
TZOFFSETTO:+0200
TZNAME:CEST
DTSTART:20260329T010000
END:DAYLIGHT
BEGIN:STANDARD
TZOFFSETFROM:+0200
TZOFFSETTO:+0100
TZNAME:CET
DTSTART:20261025T010000
END:STANDARD
END:VTIMEZONE
BEGIN:VEVENT
DTSTART;TZID=Europe/Paris:20250110T190000
DTEND;TZID=Europe/Paris:20250110T220000
DTSTAMP:20260419T192915
CREATED:20241021T151501Z
LAST-MODIFIED:20241218T120531Z
UID:2626-1736535600-1736546400@ayni.be
SUMMARY:Cercle de femmes du 10 janvier 2025
DESCRIPTION:Cercle de femmes du 10 janvier 2025\n\n\n\n\n\n\n\n\n\nSentez-vous le besoin de vous recentrer et d’honorer votre féminité ? 🌿 Le cercle de femmes est un espace sécurisé et sacré où vous pouvez déposer vos fardeaux\, vous reconnecter à vous-même et trouver du soutien. ✨L’Enchanteresse\, cet archétype puissant de notre cycle féminin\, symbolise la dualité de la création et de la transformation. 🌙 À travers ces 9 cercles\, nous explorerons ses multiples facettes. 🌿 \n\n\n\nLa troisième d’entre elles est « la Créative » : Celle qui puise dans sa source féminine\, sauvage et nourricière pour créer sa vie et le monde qui l’entoure. 🌸💫Nous plongerons dans la personnalité de « la Créative » au travers de pratiques et de partages qui éveilleront cette part en nous. 🎨 \n\n\n\n📅 Dates : 10 janvier 2025 de 19h à 22h📍 Où : Dans la yourte des Terres Happy à Saintes💰 Prix : 40 euros pour la soirée ; 150 euros si vous vous inscrivez pour 4 cercles \n\n\n\n💰 Un acompte de 20 euros non-remboursable vous est demandé afin de confirmer votre inscription \n\n\n\n🔔 Le nombre de places est limité\, réservez vite votre place via messenger\, par sms au 0496/27 94 04. \n\n\n\n👗 Des vêtements confortables mais beaux\, dans lesquels vous vous sentez en lumière.🥁 Si vous avez un tambour\, vous pouvez l’apporter. \n\n\n\nRetrouvons notre puissance féminine ensemble et créons des connexions authentiques au sein d’un cercle bienveillant. 🌸✨ \n\n\n\nFlorence
URL:https://ayni.be/event/cercle-de-femmes-du-10-janvier-2025/
LOCATION:Tubize\, Tubize
CATEGORIES:Cercle de femmes
ATTACH;FMTTYPE=image/jpeg:https://ayni.be/wp-content/uploads/2024/10/LaCreative-site.jpg
END:VEVENT
END:VCALENDAR