BEGIN:VCALENDAR
VERSION:2.0
PRODID:-//Ayni - ECPv6.15.20//NONSGML v1.0//EN
CALSCALE:GREGORIAN
METHOD:PUBLISH
X-ORIGINAL-URL:https://ayni.be
X-WR-CALDESC:Évènements pour Ayni
REFRESH-INTERVAL;VALUE=DURATION:PT1H
X-Robots-Tag:noindex
X-PUBLISHED-TTL:PT1H
BEGIN:VTIMEZONE
TZID:Europe/Paris
BEGIN:DAYLIGHT
TZOFFSETFROM:+0100
TZOFFSETTO:+0200
TZNAME:CEST
DTSTART:20240331T010000
END:DAYLIGHT
BEGIN:STANDARD
TZOFFSETFROM:+0200
TZOFFSETTO:+0100
TZNAME:CET
DTSTART:20241027T010000
END:STANDARD
BEGIN:DAYLIGHT
TZOFFSETFROM:+0100
TZOFFSETTO:+0200
TZNAME:CEST
DTSTART:20250330T010000
END:DAYLIGHT
BEGIN:STANDARD
TZOFFSETFROM:+0200
TZOFFSETTO:+0100
TZNAME:CET
DTSTART:20251026T010000
END:STANDARD
BEGIN:DAYLIGHT
TZOFFSETFROM:+0100
TZOFFSETTO:+0200
TZNAME:CEST
DTSTART:20260329T010000
END:DAYLIGHT
BEGIN:STANDARD
TZOFFSETFROM:+0200
TZOFFSETTO:+0100
TZNAME:CET
DTSTART:20261025T010000
END:STANDARD
END:VTIMEZONE
BEGIN:VEVENT
DTSTART;TZID=Europe/Paris:20251205T190000
DTEND;TZID=Europe/Paris:20251205T220000
DTSTAMP:20260419T193655
CREATED:20250608T174728Z
LAST-MODIFIED:20250608T180642Z
UID:2822-1764961200-1764972000@ayni.be
SUMMARY:Dans le jardin des Femmes – La Rose
DESCRIPTION:Dans le jardin des Femmes – La Rose\n\n\n\n\n\n\n\n\n\n4ème cercle de femmes du cycle “Dans le Jardin des Femmes”📅 Vendredi 5 décembre 2025 \n\n\n\nPour clôturer ce cycle\, la Rose nous invite à l’ouverture du cœur.Elle nous relie à notre tendresse\, notre vulnérabilité\, et notre lumière. Un moment pour accueillir qui l’on est… et oser rayonner. \n\n\n\nUn cercle tout en douceur\, dans l’intimité du cœur. \n\n\n\n⚠️ Ce cercle fait partie d’un cycle complet de 4 rencontres.Il n’est pas possible de s’inscrire à un seul cercle. \n\n\n\n📖 Infos complètes & inscription :👉 Cercle de Femmes \n\n\n\nFlorence
URL:https://ayni.be/event/cercle-de-femmes-la-rose/
LOCATION:Tubize\, Tubize
CATEGORIES:Cercle de femmes
ATTACH;FMTTYPE=image/jpeg:https://ayni.be/wp-content/uploads/2025/06/rose-site.jpg
END:VEVENT
END:VCALENDAR