BEGIN:VCALENDAR
VERSION:2.0
PRODID:-//Ayni - ECPv6.15.20//NONSGML v1.0//EN
CALSCALE:GREGORIAN
METHOD:PUBLISH
X-WR-CALNAME:Ayni
X-ORIGINAL-URL:https://ayni.be
X-WR-CALDESC:Évènements pour Ayni
REFRESH-INTERVAL;VALUE=DURATION:PT1H
X-Robots-Tag:noindex
X-PUBLISHED-TTL:PT1H
BEGIN:VTIMEZONE
TZID:Europe/Paris
BEGIN:DAYLIGHT
TZOFFSETFROM:+0100
TZOFFSETTO:+0200
TZNAME:CEST
DTSTART:20250330T010000
END:DAYLIGHT
BEGIN:STANDARD
TZOFFSETFROM:+0200
TZOFFSETTO:+0100
TZNAME:CET
DTSTART:20251026T010000
END:STANDARD
BEGIN:DAYLIGHT
TZOFFSETFROM:+0100
TZOFFSETTO:+0200
TZNAME:CEST
DTSTART:20260329T010000
END:DAYLIGHT
BEGIN:STANDARD
TZOFFSETFROM:+0200
TZOFFSETTO:+0100
TZNAME:CET
DTSTART:20261025T010000
END:STANDARD
BEGIN:DAYLIGHT
TZOFFSETFROM:+0100
TZOFFSETTO:+0200
TZNAME:CEST
DTSTART:20270328T010000
END:DAYLIGHT
BEGIN:STANDARD
TZOFFSETFROM:+0200
TZOFFSETTO:+0100
TZNAME:CET
DTSTART:20271031T010000
END:STANDARD
END:VTIMEZONE
BEGIN:VEVENT
DTSTART;TZID=Europe/Paris:20260304T190000
DTEND;TZID=Europe/Paris:20260304T220000
DTSTAMP:20260419T194314
CREATED:20260120T111534Z
LAST-MODIFIED:20260120T111537Z
UID:3134-1772650800-1772661600@ayni.be
SUMMARY:Cercle de chant du mercredi 4 mars 2026
DESCRIPTION:Cercle de Chant du mercredi 4 mars 2026\n\n\n\n\n\n\n\n\n\nCercle de chant du mercredi 4 mars \n\n\n\nUn mercredi soir pour ralentir.Pour laisser la journée se déposer et entrer dans un autre rythme. \n\n\n\n🌿 Les cercles de chant sont des espaces simples\, chaleureux\, où la voix circule librement\, accompagnée de la guitare et du tambour.Les chants Amérindiens ouvrent un espace de présence\, de lien et d’écoute. \n\n\n\n✨ On ne cherche rien à “réussir” ici.On chante si on en a envie\, on écoute si c’est juste\, on se laisse toucher par la vibration collective.Chaque voix compte\, même timide\, même fragile. \n\n\n\n🤍 Un moment pour se relier autrement — à soi\, aux autres\, au vivant — et repartir un peu plus posé\, un peu plus aligné. \n\n\n\n🪶 Les petits instruments (maracas\, petites percussions…) sont les bienvenus.🎵 Ta voix est déjà suffisante. Elle trouvera naturellement sa place. \n\n\n\n En pratique : \n\n\n\nRéservation souhaitée via messenger\, par sms au 0495/42 95 90 ou par mail via le formulaire de contact car le nombre de places est limité. \n\n\n\n– Où : à Tubize adresse donnée lors de la réservation.– Quand : le mercredi 4 mars 2026\, accueil 19h00\, début 19h30\, nous terminerons vers 22h.– Prix souhaité : 20 euros (15 euros solidaire ; 25 euros soutien) \n\n\n\nTisanes et biscuits seront offerts. \n\n\n\nAttention ! Nous aurons nos amis chats avec nous\, donc si vous êtes allergiques prenez vos dispositions !
URL:https://ayni.be/event/cercle-de-chant-du-mercredi-4-mars-2026/
LOCATION:Tubize\, Tubize
CATEGORIES:Cercles de chant
ATTACH;FMTTYPE=image/jpeg:https://ayni.be/wp-content/uploads/2024/12/cercle4-site.jpg
END:VEVENT
BEGIN:VEVENT
DTSTART;TZID=Europe/Paris:20260313T190000
DTEND;TZID=Europe/Paris:20260313T220000
DTSTAMP:20260419T194314
CREATED:20260120T112200Z
LAST-MODIFIED:20260120T112203Z
UID:3136-1773428400-1773439200@ayni.be
SUMMARY:Cercle de chant du vendredi 13 mars 2026 (Saintes)
DESCRIPTION:Cercle de Chant du vendredi 13 mars 2026 (Saintes)\n\n\n\n\n\n\n\n\n\nCercle de chant du vendredi 13 mars ! \n\n\n\nUn soir pour respirer autrement.Pour se déposer et laisser vibrer ce qui sommeille en nous. 🌿 \n\n\n\nDans ce cercle de chant\, la voix devient un fil qui nous relie.Guitare\, tambour et chants Amérindiens nous guident\, sans attente\, sans technique\, juste la présence partagée. \n\n\n\n✨ Chanter\, écouter\, ressentir… chaque souffle est un petit pont entre les cœurs.Un moment pour soi\, pour les autres\, pour la rencontre avec l’instant. \n\n\n\n🤍 Les petits instruments (maracas\, percussions légères…) sont les bienvenus.🎵 Ta voix\, telle qu’elle est\, suffit pour entrer dans ce cercle. \n\n\n\n En pratique: \n\n\n\nRéservation souhaitée via messenger\, par sms au 0495/42 95 90 ou par mail via le formulaire de contact car le nombre de places est limité. \n\n\n\n– Où : à Saintes à la Yourte des Terres Happy. Adresse donnée lors de la réservation.– Quand : le vendredi 13 mars 2026\, accueil 19h00\, début 19h30\, nous terminerons vers 22h.– Prix souhaité : 20 euros (15 euros solidaire ; 25 euros soutien) \n\n\n\nTisanes et biscuits seront offerts.
URL:https://ayni.be/event/cercle-de-chant-du-vendredi-13-mars-2026-saintes/
LOCATION:Tubize\, Tubize
CATEGORIES:Cercles de chant
ATTACH;FMTTYPE=image/jpeg:https://ayni.be/wp-content/uploads/2025/01/cercle5-site.jpg
END:VEVENT
BEGIN:VEVENT
DTSTART;TZID=Europe/Paris:20260315T150000
DTEND;TZID=Europe/Paris:20260315T170000
DTSTAMP:20260419T194314
CREATED:20251204T155932Z
LAST-MODIFIED:20251204T155937Z
UID:3032-1773586800-1773594000@ayni.be
SUMMARY:Yoga & Bain Sonore – Un voyage intérieur
DESCRIPTION:Yoga & Bain Sonore – Un voyage intérieur\n\n\n\n\n\n\n\n\n\nYoga & Bain Sonore – Un voyage intérieur \n\n\n\nUne fois par mois\, Ayni vous invite à vivre une parenthèse hors du temps :un cours de yoga doux\, suivi d’un bain sonore enveloppant. \n\n\n\nLa séance commence par un yoga accessible à toutes et tous\, axé sur la douceur\, la respiration et l’écoute du corps. Les mouvements fluides dénouent les tensions\, apaisent le mental et ouvrent l’espace intérieur\, préparant naturellement le terrain pour un relâchement plus profond. \n\n\n\nDans cette continuité\, le bain sonore vous accueille comme une vague bienveillante.Les vibrations des bols chantants traversent le corps\, réharmonisent l’énergie et invitent à un lâcher-prise total. Les sons se mêlent au souffle\, les tensions se dissipent\, et le corps s’abandonne en toute sécurité. \n\n\n\nCe rendez-vous mensuel est une invitation à ralentir\, à se recentrer et à vous offrir un moment rien que pour vous.Un équilibre subtil entre mouvement et repos\, entre respiration et vibration.Un espace où l’on se dépose\, où l’on se reconnecte\, où l’on se régénère. \n\n\n\n En pratique : \n\n\n\nRéservation obligatoire via messenger\, par sms au 0495/42 95 90 ou par mail via le formulaire de contact car le nombre de places est limité. \n\n\n\n– Où : à la Maison St Benoit\, rue Emile Vandervelde 11 à 1460 Virginal-Samme.– Quand : le dimanche 15 mars 2026\, de 15h à 17h.– Prix : 35€ – 30€ pour les abonné.e.s au cours de Yoga. \n\n\n\n \n\n\n\n☝️ A prévoir : \n\n\n\nUne tenue souple sans ceinture est vivement conseillée.Vous aurez besoin d’un tapis de yoga et d’un zafu ou coussin ferme (je peux vous donner quelques conseils à ce sujet au besoin). Il y aura des tapis en dépannage pour les essais ou les oublis éventuels. Une couverture est également la bienvenue pour les bains sonores.
URL:https://ayni.be/event/yoga-bain-sonore-un-voyage-interieur-3/
LOCATION:Tubize\, Tubize
CATEGORIES:Cercles de chant
ATTACH;FMTTYPE=image/jpeg:https://ayni.be/wp-content/uploads/2025/12/bain-sonore-site.jpeg
END:VEVENT
BEGIN:VEVENT
DTSTART;TZID=Europe/Paris:20260325T190000
DTEND;TZID=Europe/Paris:20260325T220000
DTSTAMP:20260419T194314
CREATED:20260120T113007Z
LAST-MODIFIED:20260120T113011Z
UID:3138-1774465200-1774476000@ayni.be
SUMMARY:Cercle de chant du mercredi 25 mars 2026
DESCRIPTION:Cercle de Chant du mercredi 25 mars 2026\n\n\n\n\n\n\n\n\n\nCercle de chant du mercredi 25 mars \n\n\n\nUn moment pour ralentir\, respirer\, et se laisser porter par le chant. 🌿Dans ce cercle\, les voix se rencontrent\, s’entrelacent\, et créent une vibration douce qui relie chacun à soi et aux autres. \n\n\n\nAccompagnés par le tambour\, la guitare et les chants Amérindiens\, nous laissons nos voix s’exprimer\, sans jugement\, sans performance.✨ Ici\, chaque souffle compte\, chaque intention a sa place. \n\n\n\n🤍 Les petits instruments (maracas\, percussions légères…) sont les bienvenus pour enrichir la vibration collective.🎵 Viens comme tu es\, avec ta curiosité\, ton silence\, ou ton envie de chanter à plein cœur. \n\n\n\n En pratique : \n\n\n\nRéservation souhaitée via messenger\, par sms au 0495/42 95 90 ou par mail via le formulaire de contact car le nombre de places est limité. \n\n\n\n– Où : à Tubize adresse donnée lors de la réservation.– Quand : le mercredi 25 mars 2026\, accueil 19h00\, début 19h30\, nous terminerons vers 22h.– Prix souhaité : 20 euros (15 euros solidaire ; 25 euros soutien) \n\n\n\nTisanes et biscuits seront offerts. \n\n\n\nAttention ! Nous aurons nos amis chats avec nous\, donc si vous êtes allergiques prenez vos dispositions !
URL:https://ayni.be/event/cercle-de-chant-du-mercredi-25-mars-2026/
LOCATION:Tubize\, Tubize
CATEGORIES:Cercles de chant
ATTACH;FMTTYPE=image/jpeg:https://ayni.be/wp-content/uploads/2024/11/cercle3-site.jpg
END:VEVENT
END:VCALENDAR