BEGIN:VCALENDAR
VERSION:2.0
PRODID:-//Ayni - ECPv6.15.20//NONSGML v1.0//EN
CALSCALE:GREGORIAN
METHOD:PUBLISH
X-ORIGINAL-URL:https://ayni.be
X-WR-CALDESC:Évènements pour Ayni
REFRESH-INTERVAL;VALUE=DURATION:PT1H
X-Robots-Tag:noindex
X-PUBLISHED-TTL:PT1H
BEGIN:VTIMEZONE
TZID:Europe/Paris
BEGIN:DAYLIGHT
TZOFFSETFROM:+0100
TZOFFSETTO:+0200
TZNAME:CEST
DTSTART:20250330T010000
END:DAYLIGHT
BEGIN:STANDARD
TZOFFSETFROM:+0200
TZOFFSETTO:+0100
TZNAME:CET
DTSTART:20251026T010000
END:STANDARD
BEGIN:DAYLIGHT
TZOFFSETFROM:+0100
TZOFFSETTO:+0200
TZNAME:CEST
DTSTART:20260329T010000
END:DAYLIGHT
BEGIN:STANDARD
TZOFFSETFROM:+0200
TZOFFSETTO:+0100
TZNAME:CET
DTSTART:20261025T010000
END:STANDARD
BEGIN:DAYLIGHT
TZOFFSETFROM:+0100
TZOFFSETTO:+0200
TZNAME:CEST
DTSTART:20270328T010000
END:DAYLIGHT
BEGIN:STANDARD
TZOFFSETFROM:+0200
TZOFFSETTO:+0100
TZNAME:CET
DTSTART:20271031T010000
END:STANDARD
END:VTIMEZONE
BEGIN:VEVENT
DTSTART;TZID=Europe/Paris:20260506T190000
DTEND;TZID=Europe/Paris:20260506T220000
DTSTAMP:20260419T195207
CREATED:20260407T091445Z
LAST-MODIFIED:20260407T091451Z
UID:3193-1778094000-1778104800@ayni.be
SUMMARY:Cercle de chant du mercredi 6 mai 2026
DESCRIPTION:Cercle de Chant du mercredi 6 mai 2026\n\n\n\n\n\n\n\n\n\nCercle de chant du mercredi 6 mai \n\n\n\nUn cercle de chant\, c’est un moment où l’on se retrouve ensemble pour chanter\, simplement\, sans attente ni performance. \n\n\n\nOn se met en cercle\, on apprend des chants Amérindiens\, et chacun participe à sa manière — en chantant\, en écoutant\, en se laissant porter. \n\n\n\n🌿 Les chants sont accompagnés de la guitare et du tambour\, et peu à peu\, quelque chose se pose\, s’ouvre\, se relie. \n\n\n\n✨ Pas besoin de savoir chanter.Tu peux juste être là\, et laisser ta voix trouver sa place\, à son rythme. \n\n\n\n🤍 Un temps pour revenir au corps\, au souffle\, et à la joie simple de chanter ensemble. \n\n\n\n🪶 Les petits instruments (maracas\, petites percussions…) sont les bienvenus.🎵 Ta voix suffit. \n\n\n\n En pratique : \n\n\n\nRéservation souhaitée via messenger\, par sms au 0495/42 95 90 ou par mail via le formulaire de contact car le nombre de places est limité. \n\n\n\n– Où : à Tubize adresse donnée lors de la réservation.– Quand : le mercredi 6 mai 2026\, accueil 19h00\, début 19h30\, nous terminerons vers 22h.– Prix souhaité : 20 euros (15 euros solidaire ; 25 euros soutien) \n\n\n\nTisanes et biscuits seront offerts. \n\n\n\nAttention ! Nous aurons nos amis chats avec nous\, donc si vous êtes allergiques prenez vos dispositions !
URL:https://ayni.be/event/cercle-de-chant-du-mercredi-6-mai-2026/
LOCATION:Tubize\, Tubize
CATEGORIES:Cercles de chant
ATTACH;FMTTYPE=image/jpeg:https://ayni.be/wp-content/uploads/2024/11/cercle3-site.jpg
END:VEVENT
BEGIN:VEVENT
DTSTART;TZID=Europe/Paris:20260515T190000
DTEND;TZID=Europe/Paris:20260515T220000
DTSTAMP:20260419T195207
CREATED:20260407T092114Z
LAST-MODIFIED:20260407T092119Z
UID:3195-1778871600-1778882400@ayni.be
SUMMARY:Cercle de chant du vendredi 15 mai 2026
DESCRIPTION:Cercle de Chant du vendredi 15 mai 2026\n\n\n\n\n\n\n\n\n\nCercle de chant du vendredi 15 mai \n\n\n\nUn cercle de chant\, c’est un moment où l’on se retrouve pour chanter ensemble\, sans pression ni attente particulière. \n\n\n\nOn se met en cercle\, on découvre des chants Amérindiens\, et chacun participe comme il le sent — en chantant\, en écoutant\, en se laissant porter par le groupe. \n\n\n\n🌿 La guitare et le tambour accompagnent les chants\, et peu à peu\, quelque chose se crée\, simplement\, entre les voix. \n\n\n\n✨ Pas besoin de savoir chanter.Il suffit d’être là\, et de laisser faire. \n\n\n\n🤍 Un moment pour faire une pause\, respirer\, et partager quelque chose de simple et vivant. \n\n\n\n🪶 Les petits instruments (maracas\, petites percussions…) sont les bienvenus. \n\n\n\n En pratique : \n\n\n\nRéservation souhaitée via messenger\, par sms au 0495/42 95 90 ou par mail via le formulaire de contact car le nombre de places est limité. \n\n\n\n– Où : à Tubize adresse donnée lors de la réservation.– Quand : le vendredi 15 mai 2026\, accueil 19h00\, début 19h30\, nous terminerons vers 22h.– Prix souhaité : 20 euros (15 euros solidaire ; 25 euros soutien) \n\n\n\nTisanes et biscuits seront offerts. \n\n\n\nAttention ! Nous aurons nos amis chats avec nous\, donc si vous êtes allergiques prenez vos dispositions !
URL:https://ayni.be/event/cercle-de-chant-du-vendredi-15-mai-2026/
LOCATION:Tubize\, Tubize
CATEGORIES:Cercles de chant
ATTACH;FMTTYPE=image/jpeg:https://ayni.be/wp-content/uploads/2024/12/cercle2-site.jpg
END:VEVENT
BEGIN:VEVENT
DTSTART;TZID=Europe/Paris:20260517T150000
DTEND;TZID=Europe/Paris:20260517T170000
DTSTAMP:20260419T195207
CREATED:20251204T160210Z
LAST-MODIFIED:20251204T160214Z
UID:3036-1779030000-1779037200@ayni.be
SUMMARY:Yoga & Bain Sonore – Un voyage intérieur
DESCRIPTION:Yoga & Bain Sonore – Un voyage intérieur\n\n\n\n\n\n\n\n\n\nYoga & Bain Sonore – Un voyage intérieur \n\n\n\nUne fois par mois\, Ayni vous invite à vivre une parenthèse hors du temps :un cours de yoga doux\, suivi d’un bain sonore enveloppant. \n\n\n\nLa séance commence par un yoga accessible à toutes et tous\, axé sur la douceur\, la respiration et l’écoute du corps. Les mouvements fluides dénouent les tensions\, apaisent le mental et ouvrent l’espace intérieur\, préparant naturellement le terrain pour un relâchement plus profond. \n\n\n\nDans cette continuité\, le bain sonore vous accueille comme une vague bienveillante.Les vibrations des bols chantants traversent le corps\, réharmonisent l’énergie et invitent à un lâcher-prise total. Les sons se mêlent au souffle\, les tensions se dissipent\, et le corps s’abandonne en toute sécurité. \n\n\n\nCe rendez-vous mensuel est une invitation à ralentir\, à se recentrer et à vous offrir un moment rien que pour vous.Un équilibre subtil entre mouvement et repos\, entre respiration et vibration.Un espace où l’on se dépose\, où l’on se reconnecte\, où l’on se régénère. \n\n\n\n En pratique : \n\n\n\nRéservation obligatoire via messenger\, par sms au 0495/42 95 90 ou par mail via le formulaire de contact car le nombre de places est limité. \n\n\n\n– Où : à la Maison St Benoit\, rue Emile Vandervelde 11 à 1460 Virginal-Samme.– Quand : le dimanche 17 mai 2026\, de 15h à 17h.– Prix : 35€ – 30€ pour les abonné.e.s au cours de Yoga. \n\n\n\n \n\n\n\n☝️ A prévoir : \n\n\n\nUne tenue souple sans ceinture est vivement conseillée.Vous aurez besoin d’un tapis de yoga et d’un zafu ou coussin ferme (je peux vous donner quelques conseils à ce sujet au besoin). Il y aura des tapis en dépannage pour les essais ou les oublis éventuels. Une couverture est également la bienvenue pour les bains sonores.
URL:https://ayni.be/event/yoga-bain-sonore-un-voyage-interieur-5/
LOCATION:Tubize\, Tubize
CATEGORIES:Cercles de chant
ATTACH;FMTTYPE=image/jpeg:https://ayni.be/wp-content/uploads/2025/12/bain-sonore-site.jpeg
END:VEVENT
BEGIN:VEVENT
DTSTART;TZID=Europe/Paris:20260527T190000
DTEND;TZID=Europe/Paris:20260527T220000
DTSTAMP:20260419T195207
CREATED:20260407T092946Z
LAST-MODIFIED:20260407T092952Z
UID:3197-1779908400-1779919200@ayni.be
SUMMARY:Cercle de chant du mercredi 27 mai 2026
DESCRIPTION:Cercle de Chant du mercredi 27 mai 2026\n\n\n\n\n\n\n\n\n\nCercle de chant du mercredi 27 mai \n\n\n\nChanter ensemble\, simplement.C’est ça\, un cercle de chant. \n\n\n\nOn se retrouve\, on forme un cercle\, et on apprend quelques chants Amérindiens.Chacun entre comme il veut : en chantant\, en écoutant\, en prenant le temps. \n\n\n\n🌿 La guitare et le tambour accompagnent les voix\, et peu à peu\, quelque chose prend vie dans le groupe. \n\n\n\nPas besoin d’avoir une “belle voix” ni de savoir chanter.Juste l’envie d’être là… ou même juste la curiosité. \n\n\n\n✨ Souvent\, on repart plus posé\, plus léger. Sans vraiment savoir pourquoi. \n\n\n\n🪶 Les petits instruments (maracas\, petites percussions…) sont les bienvenus. \n\n\n\n En pratique : \n\n\n\nRéservation souhaitée via messenger\, par sms au 0495/42 95 90 ou par mail via le formulaire de contact car le nombre de places est limité. \n\n\n\n– Où : à Tubize adresse donnée lors de la réservation.– Quand : le mercredi 27 mai 2026\, accueil 19h00\, début 19h30\, nous terminerons vers 22h.– Prix souhaité : 20 euros (15 euros solidaire ; 25 euros soutien) \n\n\n\nTisanes et biscuits seront offerts. \n\n\n\nAttention ! Nous aurons nos amis chats avec nous\, donc si vous êtes allergiques prenez vos dispositions !
URL:https://ayni.be/event/cercle-de-chant-du-mercredi-27-mai-2026/
LOCATION:Tubize\, Tubize
CATEGORIES:Cercles de chant
ATTACH;FMTTYPE=image/jpeg:https://ayni.be/wp-content/uploads/2024/12/cercle4-site.jpg
END:VEVENT
END:VCALENDAR