BEGIN:VCALENDAR
VERSION:2.0
PRODID:-//Ayni - ECPv6.15.20//NONSGML v1.0//EN
CALSCALE:GREGORIAN
METHOD:PUBLISH
X-WR-CALNAME:Ayni
X-ORIGINAL-URL:https://ayni.be
X-WR-CALDESC:Évènements pour Ayni
REFRESH-INTERVAL;VALUE=DURATION:PT1H
X-Robots-Tag:noindex
X-PUBLISHED-TTL:PT1H
BEGIN:VTIMEZONE
TZID:Europe/Paris
BEGIN:DAYLIGHT
TZOFFSETFROM:+0100
TZOFFSETTO:+0200
TZNAME:CEST
DTSTART:20250330T010000
END:DAYLIGHT
BEGIN:STANDARD
TZOFFSETFROM:+0200
TZOFFSETTO:+0100
TZNAME:CET
DTSTART:20251026T010000
END:STANDARD
BEGIN:DAYLIGHT
TZOFFSETFROM:+0100
TZOFFSETTO:+0200
TZNAME:CEST
DTSTART:20260329T010000
END:DAYLIGHT
BEGIN:STANDARD
TZOFFSETFROM:+0200
TZOFFSETTO:+0100
TZNAME:CET
DTSTART:20261025T010000
END:STANDARD
BEGIN:DAYLIGHT
TZOFFSETFROM:+0100
TZOFFSETTO:+0200
TZNAME:CEST
DTSTART:20270328T010000
END:DAYLIGHT
BEGIN:STANDARD
TZOFFSETFROM:+0200
TZOFFSETTO:+0100
TZNAME:CET
DTSTART:20271031T010000
END:STANDARD
END:VTIMEZONE
BEGIN:VEVENT
DTSTART;TZID=Europe/Paris:20260109T190000
DTEND;TZID=Europe/Paris:20260109T220000
DTSTAMP:20260420T145321
CREATED:20251218T142021Z
LAST-MODIFIED:20251218T142025Z
UID:3041-1767985200-1767996000@ayni.be
SUMMARY:Cercle de chant du vendredi 9 janvier 2026 (Saintes)
DESCRIPTION:Cercle de Chant du vendredi 9 janvier 2026 (Saintes)\n\n\n\n\n\n\n\n\n\nCercle de chant du vendredi 9 janvier ! \n\n\n\nUne nouvelle année s’ouvre.Et si tu prenais un moment pour l’accueillir autrement ? \n\n\n\nCe cercle de chant est une invitation à t’ancrer\, à écouter ce qui cherche à émerger\, à laisser la vibration des chants médecine soutenir le passage.Pas besoin de savoir chanter — juste l’envie d’être là\, ensemble\, autour du rythme et du souffle partagé. \n\n\n\nUn espace pour poser une première note\, juste et vivante\, pour l’année qui commence. \n\n\n\n \n\n\n\nLes petits instruments style maracas ou petites percussions sont bienvenus. \n\n\n\n En pratique: \n\n\n\nRéservation souhaitée via messenger\, par sms au 0495/42 95 90 ou par mail via le formulaire de contact car le nombre de places est limité. \n\n\n\n– Où : à Saintes à la Yourte des Terres Happy. Adresse donnée lors de la réservation.– Quand : le vendredi 9 janvier 2026\, accueil 19h00\, début 19h30\, nous terminerons vers 22h.– Prix souhaité : 20 euros (15 euros solidaire ; 25 euros soutien) \n\n\n\nTisanes et biscuits seront offerts.
URL:https://ayni.be/event/cercle-de-chant-du-vendredi-9-janvier-2026-saintes/
LOCATION:Tubize\, Tubize
CATEGORIES:Cercles de chant
ATTACH;FMTTYPE=image/jpeg:https://ayni.be/wp-content/uploads/2024/12/cercle4-site.jpg
END:VEVENT
END:VCALENDAR