BEGIN:VCALENDAR
VERSION:2.0
PRODID:-//Ayni - ECPv6.15.20//NONSGML v1.0//EN
CALSCALE:GREGORIAN
METHOD:PUBLISH
X-WR-CALNAME:Ayni
X-ORIGINAL-URL:https://ayni.be
X-WR-CALDESC:Évènements pour Ayni
REFRESH-INTERVAL;VALUE=DURATION:PT1H
X-Robots-Tag:noindex
X-PUBLISHED-TTL:PT1H
BEGIN:VTIMEZONE
TZID:Europe/Paris
BEGIN:DAYLIGHT
TZOFFSETFROM:+0100
TZOFFSETTO:+0200
TZNAME:CEST
DTSTART:20250330T010000
END:DAYLIGHT
BEGIN:STANDARD
TZOFFSETFROM:+0200
TZOFFSETTO:+0100
TZNAME:CET
DTSTART:20251026T010000
END:STANDARD
BEGIN:DAYLIGHT
TZOFFSETFROM:+0100
TZOFFSETTO:+0200
TZNAME:CEST
DTSTART:20260329T010000
END:DAYLIGHT
BEGIN:STANDARD
TZOFFSETFROM:+0200
TZOFFSETTO:+0100
TZNAME:CET
DTSTART:20261025T010000
END:STANDARD
BEGIN:DAYLIGHT
TZOFFSETFROM:+0100
TZOFFSETTO:+0200
TZNAME:CEST
DTSTART:20270328T010000
END:DAYLIGHT
BEGIN:STANDARD
TZOFFSETFROM:+0200
TZOFFSETTO:+0100
TZNAME:CET
DTSTART:20271031T010000
END:STANDARD
END:VTIMEZONE
BEGIN:VEVENT
DTSTART;TZID=Europe/Paris:20260130T190000
DTEND;TZID=Europe/Paris:20260130T220000
DTSTAMP:20260420T060716
CREATED:20260113T122042Z
LAST-MODIFIED:20260113T122045Z
UID:3111-1769799600-1769810400@ayni.be
SUMMARY:Cercle de chant du vendredi 30 janvier 2026 (Saintes)
DESCRIPTION:Cercle de Chant du vendredi 30 janvier 2026 (Saintes)\n\n\n\n\n\n\n\n\n\nCercle de chant du vendredi 30 janvier ! \n\n\n\nAu cœur de l’hiver\, quand tout invite au ralentissement\, nous t’invitons à un temps de présence et de lien autour du chant. \n\n\n\nLe cercle de chant est un espace simple et vivant\, où les voix se rencontrent sans attente ni performance.Les chants médecine\, portés par le rythme du tambour et le souffle collectif\, ouvrent un espace d’écoute\, d’ancrage et de reliance. \n\n\n\nPas besoin de savoir chanter.Il suffit de venir tel que tu es\, avec ta voix\, ton silence\, ton ressenti du moment. \n\n\n\nUn temps pour se déposer\, vibrer ensemble\, et laisser circuler ce qui demande à l’être. \n\n\n\n✨ Ta voix a toute sa place dans le cercle.Les petits instruments (maracas\, petites percussions…) sont les bienvenus. \n\n\n\n En pratique: \n\n\n\nRéservation souhaitée via messenger\, par sms au 0495/42 95 90 ou par mail via le formulaire de contact car le nombre de places est limité. \n\n\n\n– Où : à Saintes à la Yourte des Terres Happy. Adresse donnée lors de la réservation.– Quand : le vendredi 30 janvier 2026\, accueil 19h00\, début 19h30\, nous terminerons vers 22h.– Prix souhaité : 20 euros (15 euros solidaire ; 25 euros soutien) \n\n\n\nTisanes et biscuits seront offerts.
URL:https://ayni.be/event/cercle-de-chant-du-vendredi-30-janvier-2026-saintes/
LOCATION:Tubize\, Tubize
CATEGORIES:Cercles de chant
ATTACH;FMTTYPE=image/jpeg:https://ayni.be/wp-content/uploads/2025/01/cercle5-site.jpg
END:VEVENT
END:VCALENDAR