BEGIN:VCALENDAR
VERSION:2.0
PRODID:-//Ayni - ECPv6.15.20//NONSGML v1.0//EN
CALSCALE:GREGORIAN
METHOD:PUBLISH
X-ORIGINAL-URL:https://ayni.be
X-WR-CALDESC:Évènements pour Ayni
REFRESH-INTERVAL;VALUE=DURATION:PT1H
X-Robots-Tag:noindex
X-PUBLISHED-TTL:PT1H
BEGIN:VTIMEZONE
TZID:Europe/Paris
BEGIN:DAYLIGHT
TZOFFSETFROM:+0100
TZOFFSETTO:+0200
TZNAME:CEST
DTSTART:20240331T010000
END:DAYLIGHT
BEGIN:STANDARD
TZOFFSETFROM:+0200
TZOFFSETTO:+0100
TZNAME:CET
DTSTART:20241027T010000
END:STANDARD
BEGIN:DAYLIGHT
TZOFFSETFROM:+0100
TZOFFSETTO:+0200
TZNAME:CEST
DTSTART:20250330T010000
END:DAYLIGHT
BEGIN:STANDARD
TZOFFSETFROM:+0200
TZOFFSETTO:+0100
TZNAME:CET
DTSTART:20251026T010000
END:STANDARD
BEGIN:DAYLIGHT
TZOFFSETFROM:+0100
TZOFFSETTO:+0200
TZNAME:CEST
DTSTART:20260329T010000
END:DAYLIGHT
BEGIN:STANDARD
TZOFFSETFROM:+0200
TZOFFSETTO:+0100
TZNAME:CET
DTSTART:20261025T010000
END:STANDARD
END:VTIMEZONE
BEGIN:VEVENT
DTSTART;TZID=Europe/Paris:20250305T190000
DTEND;TZID=Europe/Paris:20250305T220000
DTSTAMP:20260423T070311
CREATED:20250212T142524Z
LAST-MODIFIED:20250212T142533Z
UID:2741-1741201200-1741212000@ayni.be
SUMMARY:Cercle de chant du mercredi 05 mars 2025
DESCRIPTION:Cercle de Chant du mercredi 05 mars 2025\n\n\n\n\n\n\n\n\n\nCercle de chant du mercredi 05 mars ! \n\n\n\nBesoin de revenir vers toi ? ✨🌈 \n\n\n\nOffre-toi un moment pour te recentrer et lâcher-prise grâce aux chants médecines de la Forêt. 🌳 \n\n\n\nChanter ensemble nous porte par la joie\, nous relie aux autres et à nous même. Tu n’as pas besoin de savoir chanter\, juste l’envie de te nourrir dans la joie partagée. 💖 \n\n\n\nLes petits instruments style maracas ou petites percussions sont bienvenus. \n\n\n\n En pratique: \n\n\n\nRéservation souhaitée via messenger\, par sms au 0495/42 95 90 ou par mail via le formulaire de contact car le nombre de places est limité. \n\n\n\n– Où : à Tubize adresse donnée lors de la réservation.– Quand : le mercredi 05 mars 2025\, accueil 19h00\, début 19h30\, nous terminerons à 22h.– Prix souhaité : 20 euros (15 euros solidaire ; 25 euros soutien) \n\n\n\nTisanes et biscuits seront offerts. \n\n\n\nAttention ! Nous aurons nos amis chats avec nous\, donc si vous êtes allergiques prenez vos dispositions !
URL:https://ayni.be/event/cercle-de-chant-du-mercredi-05-mars-2025/
LOCATION:Tubize\, Tubize
CATEGORIES:Cercles de chant
ATTACH;FMTTYPE=image/jpeg:https://ayni.be/wp-content/uploads/2024/12/cercle2-site.jpg
END:VEVENT
BEGIN:VEVENT
DTSTART;TZID=Europe/Paris:20250307T190000
DTEND;TZID=Europe/Paris:20250307T220000
DTSTAMP:20260423T070311
CREATED:20241021T151953Z
LAST-MODIFIED:20241218T120024Z
UID:2634-1741374000-1741384800@ayni.be
SUMMARY:Cercle de femmes du 7 mars 2025
DESCRIPTION:Cercle de femmes du 7 mars 2025\n\n\n\n\n\n\n\n\n\nBesoin de vous reconnecter à votre nature féminine ? 🌙 Le cercle de femmes vous propose un moment pour ralentir et vous recentrer dans un cadre sécurisé et bienveillant. 🌸✨ Dans cet espace sacré\, nous nous inspirons les unes des autres. 💫L’Enchanteresse\, une figure du cycle féminin\, est une femme intuitive et ambivalente. 🌕 Durant ces 9 cercles\, nous explorerons les multiples facettes de cet archétype. 🔮 \n\n\n\nLa cinquième d’entre elles est « la Magicienne » : Celle qui transforme et alchimise\, qui voit au-delà des apparences\, consciente de sa puissance féminine personnelle. 🌟🔮À travers des pratiques et des partages\, nous irons à la rencontre de cette « Magicienne » qui sommeille en nous. ✨ \n\n\n\n📅 Dates : 7 mars 2025 de 19h à 22h📍 Où : Dans la yourte des Terres Happy à Saintes💰 Prix : 40 euros pour la soirée ; 150 euros si vous vous inscrivez pour 4 cercles \n\n\n\n💰 Un acompte de 20 euros non-remboursable vous est demandé afin de confirmer votre inscription \n\n\n\n🔔 Le nombre de places est limité\, réservez vite votre place via messenger\, par sms au 0496/27 94 04. \n\n\n\n👗 Des vêtements confortables mais beaux\, dans lesquels vous vous sentez en lumière.🥁 Si vous avez un tambour\, vous pouvez l’apporter. \n\n\n\nRéveillons notre pouvoir féminin et construisons des liens authentiques dans un espace d’écoute bienveillante. 🌸💫 \n\n\n\nFlorence
URL:https://ayni.be/event/cercle-de-femmes-du-7-mars-2025/
LOCATION:Tubize\, Tubize
CATEGORIES:Cercle de femmes
ATTACH;FMTTYPE=image/jpeg:https://ayni.be/wp-content/uploads/2024/10/LaMagicienne-site.jpg
END:VEVENT
BEGIN:VEVENT
DTSTART;TZID=Europe/Paris:20250321T190000
DTEND;TZID=Europe/Paris:20250321T220000
DTSTAMP:20260423T070311
CREATED:20250311T123335Z
LAST-MODIFIED:20250311T130824Z
UID:2763-1742583600-1742594400@ayni.be
SUMMARY:🎶✨ Cercle de Chant  21 mars– 1 an déjà ! Célébrons ensemble ! ✨🎶
DESCRIPTION:🎶✨ Cercle de Chant  21 mars– 1 an déjà ! Célébrons ensemble ! ✨🎶(Saintes)\n\n\n\n\n\n\n\n\n\nCe vendredi\, nous fêtons le 1er anniversaire de nos cercles de chant !  Pour cette occasion spéciale\, nous vous offrons ce cercle en cadeau\, l’occasion de le faire découvrir à vos amis et famille !Venez chanter\, vibrer et célébrer cette belle aventure musicale et humaine !  \n\n\n\nLes petits instruments style maracas ou petites percussions sont bienvenus. \n\n\n\n En pratique:Réservation souhaitée via messenger\, par sms au 0495/42 95 90 ou par mail car le nombre de places est limité.– Où : à Saintes à la Yourte des Terres Happy. Adresse donnée lors de la réservation.– Quand : le vendredi 21 mars 2025\, accueil 19h00\, début 19h30\, nous terminerons vers 22h.– Prix souhaité : C’est gratuit pour l’occasion mais une boite sera à disposition pour ceux et celles qui voudraient nous soutenir .Tisanes et biscuits seront offerts.
URL:https://ayni.be/event/cercle-de-chant-du-vendredi-21-mars-2025-saintes/
LOCATION:Tubize\, Tubize
CATEGORIES:Cercles de chant
ATTACH;FMTTYPE=image/jpeg:https://ayni.be/wp-content/uploads/2025/03/1an-site.jpg
END:VEVENT
BEGIN:VEVENT
DTSTART;TZID=Europe/Paris:20250322T140000
DTEND;TZID=Europe/Paris:20250322T173000
DTSTAMP:20260423T070311
CREATED:20250311T114719Z
LAST-MODIFIED:20250311T114942Z
UID:2752-1742652000-1742664600@ayni.be
SUMMARY:Grand rituel de printemps du 22 mars 2025 - Faisons éclore nos désirs
DESCRIPTION:Grand rituel de printemps du 22 mars 2025 – Faisons éclore nos désirs\n\n\n\n\n\n\n\n\n\nPour s’ouvrir à l’énergie du printemps\, pour fêter ensemble ce renouveau et nous propulser chacun dans de nouvelles aventures\, nous sommes en joie de te convier à ce grand Rituel de Printemps qui se déroulera au Grand Bois Commun d’Hennuyères. \n\n\n\nYann et Florence (Ayni) enchanteront l’espace avec leurs chants Médecine.Sandrine nous guidera dans la sacralisation de ce lieu et l’inauguration de ce cercle de Hêtres à souhaits.Christelle (Kalimenterre) nous emmènera dans la reliance du cœur avec le Cacao et la Médecine de la Rose. \n\n\n\nLes trois praticiennes en écorituels que nous sommes se réjouissent de vous emmener au Cœur de la Nature pour se relier ensemble au Grand Vivant et laisser éclore nos désirs ! \n\n\n\nC’est un Rituel ouvert tous ! Bienvenue en solo ou accompagné.e des êtres qui te sont chers ! (enfants bienvenus) \n\n\n\n \n\n\n\n \n\n\n\n📅 Date : 22 mars 2025 à partir de 14h📍 Où : au Grand Bois Commun à Hennuyères💰 Prix : 30 euros\, gratuit pour les enfants \n\n\n\n🔗 Réservation obligatoire et infos par SMS/Tél au 0496/27 94 04 ou via la page contact ou info@kalimenterre.be👉 Réservation indispensable pour recevoir le lieu de rdv (et pour prévoir le cacao) : \n\n\n\nTous les détails pratiques (lieu précis\, heure\, matériel à emporter) vous seront communiqués lors de l’inscription \n\n\n\nNous sommes en joie de partager ce moment magique avec vous !Florence\, Yann\, Christelle et Sandrine 💖
URL:https://ayni.be/event/grand-rituel-de-printemps-22-mars-2025/
LOCATION:Hennuyères
CATEGORIES:Rituels et cérémonies
ATTACH;FMTTYPE=image/jpeg:https://ayni.be/wp-content/uploads/2025/03/22mars-site.jpg
END:VEVENT
BEGIN:VEVENT
DTSTART;TZID=Europe/Paris:20250326T190000
DTEND;TZID=Europe/Paris:20250326T220000
DTSTAMP:20260423T070311
CREATED:20250225T133305Z
LAST-MODIFIED:20250225T133350Z
UID:2744-1743015600-1743026400@ayni.be
SUMMARY:Cercle de chant du mercredi 26 mars 2025
DESCRIPTION:Cercle de Chant du mercredi 26 mars 2025\n\n\n\n\n\n\n\n\n\nCercle de chant du mercredi 26 mars ! \n\n\n\nEnvie de te guérir et de prendre soin de toi ? 💖  \n\n\n\nLes chants médecines sont une pratique ancestrale de guérison. 🌿  \n\n\n\nEn les chantant ensemble\, nous amplifions leur pouvoir et laissons la musique nous guérir intérieurement. 🎶 \n\n\n\n✨ Viens chanter avec nous et partager tes belles vibrations\, même si tu « ne sais pas chanter ». 💫 \n\n\n\nLes petits instruments style maracas ou petites percussions sont bienvenus. \n\n\n\n En pratique: \n\n\n\nRéservation souhaitée via messenger\, par sms au 0495/42 95 90 ou par mail via le formulaire de contact car le nombre de places est limité. \n\n\n\n– Où : à Tubize adresse donnée lors de la réservation.– Quand : le mercredi 26 mars 2025\, accueil 19h00\, début 19h30\, nous terminerons vers 22h.– Prix souhaité : 20 euros (15 euros solidaire ; 25 euros soutien) \n\n\n\nTisanes et biscuits seront offerts. \n\n\n\nAttention ! Nous aurons nos amis chats avec nous\, donc si vous êtes allergiques prenez vos dispositions !
URL:https://ayni.be/event/cercle-de-chant-du-mercredi-26-mars-2025/
LOCATION:Tubize\, Tubize
CATEGORIES:Cercles de chant
ATTACH;FMTTYPE=image/jpeg:https://ayni.be/wp-content/uploads/2024/11/cercle3-site.jpg
END:VEVENT
BEGIN:VEVENT
DTSTART;TZID=Europe/Paris:20250329T140000
DTEND;TZID=Europe/Paris:20250329T163000
DTSTAMP:20260423T070311
CREATED:20250226T110555Z
LAST-MODIFIED:20250226T110604Z
UID:2748-1743256800-1743265800@ayni.be
SUMMARY:Balade découverte des plantes médicinales - plantes détox et dépuratives
DESCRIPTION:Découverte des plantes médicinales – plantes détox et dépuratives\n\n\n\n\n\n\n\n\n\nLe début du printemps est un moment idéal pour réaliser une cure détox ! Venez passer un agréable moment dans la Nature lors de cette balade découverte des plantes médicinales détox et dépuratives. \n\n\n\nSouvent qualifiées à tort de mauvaises herbes\, les plantes sauvages ont accompagnés l’humain depuis l’aube des temps qui les a utilisées pour leurs nombreuses propriétés nutritives ou thérapeutiques\, mais également pour d’autres usages. \n\n\n\nLors de cette balade découverte des plantes médicinales détox et dépuratives\, facile d’accès sur terrain plat le long de l’ancien bief de l’écluse d’Ittre\, vous apprendrez à les identifier et les utiliser de façon simple. Nous verrons également les grands principes de la cueillette pour pouvoir les récolter en sécurité et de façon respectueuse pour la biodiversité. \n\n\n\nPour vous guider\, Yann\, guide-nature breveté\, vous partagera ses conseils et recommandations afin de vous aider à profiter de ces précieux cadeaux de la Terre-Mère que sont les plantes sauvages. \n\n\n\n Au programme : Apprendre à reconnaître les plantes sauvages Découvrir leurs propriétés médicinales Comment les utiliser\, les récolter et les conserver Développer son autonomie et ses connaissances Se reconnecter à la Nature \n\n\n\nINFOS PRATIQUES : A prévoir : Prévoir une tenue adaptée à la météo du jour et à la promenade en Nature. Si vous souhaitez prendre des notes\, apportez un petit carnet et éventuellement un appareil photo. \n\n\n\n Rendez-vous : Par respect pour tous les participants\, la balade commencera à l’heure précisée\, mais je serai présent pour vous accueillir un quart d’heure avant le départ de la balade (13h45). Balade facile et accessible à tous (3 km sur terrain plat) \n\n\n\n Le lieu de rendez-vous est donné lors de l’inscription \n\n\n\n Tarif : 15€/personne (7€ pour les enfants de moins de 12 ans). Paiement en liquide sur place. Afin de pouvoir consacrer du temps à chacun\, le nombre de participants est limité et les réservations sont donc obligatoires. Les inscriptions se font soit via Messenger\, soit via le formulaire de contact\, soit par téléphone au 0495 42 95 90 (n’hésitez pas à laisser un message\, nous vous recontacterons!) L’évènement ne sera annulé qu’en cas de grosse intempérie ou d’impossibilité majeure de l’animateur (maladie\,…) \n\n\n\nEt si vous n’êtes pas disponible\, mais que vous souhaitez connaître les prochaines dates de nos activités\, vous pouvez vous abonner à notre page Facebook : https://www.facebook.com/ayni1480 \n\n\n\nAu plaisir de vous rencontrer ! Yann.
URL:https://ayni.be/event/balade-plantes-medicinales/
LOCATION:Tubize\, Tubize
CATEGORIES:Balades
ATTACH;FMTTYPE=image/jpeg:https://ayni.be/wp-content/uploads/2025/02/250329-banner-site.jpg
END:VEVENT
END:VCALENDAR